Package: iModMix Version: 1.1.0 Command: /Library/Frameworks/R.framework/Resources/bin/R CMD INSTALL iModMix StartedAt: 2025-11-12 15:41:28 -0500 (Wed, 12 Nov 2025) EndedAt: 2025-11-12 15:41:31 -0500 (Wed, 12 Nov 2025) EllapsedTime: 3.1 seconds RetCode: 0 Status: OK