Package: iModMix Version: 1.1.0 Command: /Library/Frameworks/R.framework/Resources/bin/R CMD build --keep-empty-dirs --no-resave-data iModMix StartedAt: 2025-11-12 16:31:31 -0500 (Wed, 12 Nov 2025) EndedAt: 2025-11-12 16:31:46 -0500 (Wed, 12 Nov 2025) EllapsedTime: 15.2 seconds RetCode: 0 Status: OK PackageFile: iModMix_1.1.0.tar.gz PackageFileSize: 10.6 MiB