Package: iModMix Version: 1.1.0 Command: rm -rf iModMix.buildbin-libdir && mkdir iModMix.buildbin-libdir && /Users/biocbuild/BBS/utils/build-universal.sh iModMix_1.1.0.tar.gz /Library/Frameworks/R.framework/Resources/bin/R iModMix.buildbin-libdir StartedAt: 2025-11-12 21:00:27 -0500 (Wed, 12 Nov 2025) EndedAt: 2025-11-12 21:00:32 -0500 (Wed, 12 Nov 2025) EllapsedTime: 5.1 seconds RetCode: 0 Status: OK PackageFile: iModMix_1.1.0.tgz PackageFileSize: 10.77 MiB