Package: iClusterPlus Version: 1.47.0 Command: /Library/Frameworks/R.framework/Resources/bin/R CMD check --install=check:iClusterPlus.install-out.txt --library=/Library/Frameworks/R.framework/Resources/library --no-vignettes --timings iClusterPlus_1.47.0.tar.gz StartedAt: 2025-11-14 20:27:31 -0500 (Fri, 14 Nov 2025) EndedAt: 2025-11-14 20:28:12 -0500 (Fri, 14 Nov 2025) EllapsedTime: 41.5 seconds RetCode: 0 Status: OK CheckDir: iClusterPlus.Rcheck Warnings: 0