Package: iChip Version: 1.65.0 Command: /home/biocbuild/bbs-3.23-bioc/R/bin/R CMD INSTALL iChip StartedAt: 2025-11-23 15:03:51 -0500 (Sun, 23 Nov 2025) EndedAt: 2025-11-23 15:04:03 -0500 (Sun, 23 Nov 2025) EllapsedTime: 12.2 seconds RetCode: 0 Status: OK