Package: iChip Version: 1.65.0 Command: /Library/Frameworks/R.framework/Resources/bin/R CMD INSTALL iChip StartedAt: 2025-11-13 15:01:41 -0500 (Thu, 13 Nov 2025) EndedAt: 2025-11-13 15:01:45 -0500 (Thu, 13 Nov 2025) EllapsedTime: 4.4 seconds RetCode: 0 Status: OK