Package: iChip Version: 1.65.0 Command: rm -rf iChip.buildbin-libdir && mkdir iChip.buildbin-libdir && /Users/biocbuild/BBS/utils/build-universal.sh iChip_1.65.0.tar.gz /Library/Frameworks/R.framework/Resources/bin/R iChip.buildbin-libdir StartedAt: 2025-11-13 23:41:37 -0500 (Thu, 13 Nov 2025) EndedAt: 2025-11-13 23:41:41 -0500 (Thu, 13 Nov 2025) EllapsedTime: 4.1 seconds RetCode: 0 Status: OK PackageFile: iChip_1.65.0.tgz PackageFileSize: 1.922 MiB