Package: iCheck Version: 1.41.0 Command: /home/biocbuild/bbs-3.23-bioc/R/bin/R CMD INSTALL iCheck StartedAt: 2025-11-11 16:05:11 -0500 (Tue, 11 Nov 2025) EndedAt: 2025-11-11 16:05:56 -0500 (Tue, 11 Nov 2025) EllapsedTime: 45.1 seconds RetCode: 0 Status: OK