Package: iCheck Version: 1.41.0 Command: /home/biocbuild/bbs-3.23-bioc/R/bin/R CMD build --keep-empty-dirs --no-resave-data iCheck StartedAt: 2025-11-11 18:11:58 -0500 (Tue, 11 Nov 2025) EndedAt: 2025-11-11 18:13:04 -0500 (Tue, 11 Nov 2025) EllapsedTime: 66.1 seconds RetCode: 0 Status: OK PackageFile: iCheck_1.41.0.tar.gz PackageFileSize: 559.8 KiB