############################################################################## ############################################################################## ### ### Running command: ### ### /Library/Frameworks/R.framework/Resources/bin/R CMD INSTALL iCheck ### ############################################################################## ############################################################################## * installing to library ‘/Library/Frameworks/R.framework/Versions/4.6-arm64/Resources/library’ ERROR: dependency ‘lumi’ is not available for package ‘iCheck’ Perhaps try a variation of: install.packages('lumi') * removing ‘/Library/Frameworks/R.framework/Versions/4.6-arm64/Resources/library/iCheck’