Package: iCheck Version: 1.41.0 Maintainer: Weiliang Qiu MaintainerEmail: stwxq at channing.harvard.edu git_url: https://git.bioconductor.org/packages/iCheck git_branch: devel git_last_commit: da591b3 git_last_commit_date: 2025-10-29 10:28:02 -0500 (Wed, 29 Oct 2025)