Package: iASeq Version: 1.55.0 Command: /Library/Frameworks/R.framework/Resources/bin/R CMD INSTALL iASeq StartedAt: 2025-11-13 15:01:26 -0500 (Thu, 13 Nov 2025) EndedAt: 2025-11-13 15:01:29 -0500 (Thu, 13 Nov 2025) EllapsedTime: 3.1 seconds RetCode: 0 Status: OK