Package: iASeq Version: 1.55.0 Command: /Library/Frameworks/R.framework/Resources/bin/R CMD build --keep-empty-dirs --no-resave-data iASeq StartedAt: 2025-11-13 16:43:32 -0500 (Thu, 13 Nov 2025) EndedAt: 2025-11-13 16:43:36 -0500 (Thu, 13 Nov 2025) EllapsedTime: 4.1 seconds RetCode: 0 Status: OK PackageFile: iASeq_1.55.0.tar.gz PackageFileSize: 205.9 KiB