Package: iASeq Version: 1.55.0 Command: rm -rf iASeq.buildbin-libdir && mkdir iASeq.buildbin-libdir && /Users/biocbuild/BBS/utils/build-universal.sh iASeq_1.55.0.tar.gz /Library/Frameworks/R.framework/Resources/bin/R iASeq.buildbin-libdir StartedAt: 2025-11-13 23:41:34 -0500 (Thu, 13 Nov 2025) EndedAt: 2025-11-13 23:41:36 -0500 (Thu, 13 Nov 2025) EllapsedTime: 2.1 seconds RetCode: 0 Status: OK PackageFile: iASeq_1.55.0.tgz PackageFileSize: 254.8 KiB