Package: iASeq Version: 1.55.0 Maintainer: Yingying Wei MaintainerEmail: ywei at jhsph.edu git_url: https://git.bioconductor.org/packages/iASeq git_branch: devel git_last_commit: b35bc1a git_last_commit_date: 2025-10-29 10:10:54 -0500 (Wed, 29 Oct 2025)