Package: hypergraph Version: 1.83.0 Command: /home/biocbuild/bbs-3.23-bioc/R/bin/R CMD INSTALL hypergraph StartedAt: 2025-11-13 15:13:27 -0500 (Thu, 13 Nov 2025) EndedAt: 2025-11-13 15:13:30 -0500 (Thu, 13 Nov 2025) EllapsedTime: 3.8 seconds RetCode: 0 Status: OK