Package: hypergraph Version: 1.83.0 Command: /home/biocbuild/bbs-3.23-bioc/R/bin/R CMD build --keep-empty-dirs --no-resave-data hypergraph StartedAt: 2025-11-11 18:11:37 -0500 (Tue, 11 Nov 2025) EndedAt: 2025-11-11 18:11:38 -0500 (Tue, 11 Nov 2025) EllapsedTime: 1.0 seconds RetCode: 0 Status: OK PackageFile: hypergraph_1.83.0.tar.gz PackageFileSize: 8.266 KiB