Package: hypergraph Version: 1.83.0 Command: /Library/Frameworks/R.framework/Resources/bin/R CMD INSTALL hypergraph StartedAt: 2025-11-13 15:07:32 -0500 (Thu, 13 Nov 2025) EndedAt: 2025-11-13 15:07:34 -0500 (Thu, 13 Nov 2025) EllapsedTime: 2.6 seconds RetCode: 0 Status: OK