Package: hypergraph Version: 1.83.0 Command: /Library/Frameworks/R.framework/Resources/bin/R CMD check --install=check:hypergraph.install-out.txt --library=/Library/Frameworks/R.framework/Resources/library --no-vignettes --timings hypergraph_1.83.0.tar.gz StartedAt: 2025-11-13 20:30:28 -0500 (Thu, 13 Nov 2025) EndedAt: 2025-11-13 20:30:44 -0500 (Thu, 13 Nov 2025) EllapsedTime: 15.3 seconds RetCode: 0 Status: OK CheckDir: hypergraph.Rcheck Warnings: 0