Package: hypergraph Version: 1.83.0 Command: rm -rf hypergraph.buildbin-libdir && mkdir hypergraph.buildbin-libdir && /Users/biocbuild/BBS/utils/build-universal.sh hypergraph_1.83.0.tar.gz /Library/Frameworks/R.framework/Resources/bin/R hypergraph.buildbin-libdir StartedAt: 2025-11-13 23:41:32 -0500 (Thu, 13 Nov 2025) EndedAt: 2025-11-13 23:41:35 -0500 (Thu, 13 Nov 2025) EllapsedTime: 3.1 seconds RetCode: 0 Status: OK PackageFile: hypergraph_1.83.0.tgz PackageFileSize: 169.5 KiB