Package: hyperdraw Version: 1.63.0 Command: /home/biocbuild/bbs-3.23-bioc/R/bin/R CMD INSTALL hyperdraw StartedAt: 2025-11-13 15:14:54 -0500 (Thu, 13 Nov 2025) EndedAt: 2025-11-13 15:14:58 -0500 (Thu, 13 Nov 2025) EllapsedTime: 4.8 seconds RetCode: 0 Status: OK