Package: hyperdraw Version: 1.63.0 Command: /home/biocbuild/bbs-3.23-bioc/R/bin/R CMD check --install=check:hyperdraw.install-out.txt --library=/home/biocbuild/bbs-3.23-bioc/R/site-library --timings hyperdraw_1.63.0.tar.gz StartedAt: 2025-11-26 00:34:54 -0500 (Wed, 26 Nov 2025) EndedAt: 2025-11-26 00:35:28 -0500 (Wed, 26 Nov 2025) EllapsedTime: 34.1 seconds RetCode: 0 Status: OK CheckDir: hyperdraw.Rcheck Warnings: 0