Package: hyperdraw Version: 1.63.0 Command: /home/biocbuild/bbs-3.23-bioc/R/bin/R CMD build --keep-empty-dirs --no-resave-data hyperdraw StartedAt: 2025-11-11 18:11:32 -0500 (Tue, 11 Nov 2025) EndedAt: 2025-11-11 18:11:42 -0500 (Tue, 11 Nov 2025) EllapsedTime: 10.0 seconds RetCode: 0 Status: OK PackageFile: hyperdraw_1.63.0.tar.gz PackageFileSize: 204.2 KiB