Package: hmdbQuery Version: 1.31.0 Command: /home/biocbuild/bbs-3.23-bioc/R/bin/R CMD INSTALL hmdbQuery StartedAt: 2025-11-11 15:16:58 -0500 (Tue, 11 Nov 2025) EndedAt: 2025-11-11 15:17:03 -0500 (Tue, 11 Nov 2025) EllapsedTime: 5.0 seconds RetCode: 0 Status: OK