Package: hmdbQuery Version: 1.31.0 Command: /Library/Frameworks/R.framework/Resources/bin/R CMD INSTALL hmdbQuery StartedAt: 2025-11-13 15:07:06 -0500 (Thu, 13 Nov 2025) EndedAt: 2025-11-13 15:07:09 -0500 (Thu, 13 Nov 2025) EllapsedTime: 3.3 seconds RetCode: 0 Status: OK