Package: hmdbQuery Version: 1.31.0 Command: /Library/Frameworks/R.framework/Resources/bin/R CMD build --keep-empty-dirs --no-resave-data hmdbQuery StartedAt: 2025-11-13 16:42:36 -0500 (Thu, 13 Nov 2025) EndedAt: 2025-11-13 16:43:00 -0500 (Thu, 13 Nov 2025) EllapsedTime: 23.3 seconds RetCode: 0 Status: OK PackageFile: hmdbQuery_1.31.0.tar.gz PackageFileSize: 749.2 KiB