Package: hmdbQuery Version: 1.31.0 Command: rm -rf hmdbQuery.buildbin-libdir && mkdir hmdbQuery.buildbin-libdir && /Users/biocbuild/BBS/utils/build-universal.sh hmdbQuery_1.31.0.tar.gz /Library/Frameworks/R.framework/Resources/bin/R hmdbQuery.buildbin-libdir StartedAt: 2025-11-13 23:41:24 -0500 (Thu, 13 Nov 2025) EndedAt: 2025-11-13 23:41:28 -0500 (Thu, 13 Nov 2025) EllapsedTime: 4.1 seconds RetCode: 0 Status: OK PackageFile: hmdbQuery_1.31.0.tgz PackageFileSize: 888.5 KiB