Package: hmdbQuery Version: 1.31.0 Maintainer: VJ Carey MaintainerEmail: stvjc at channing.harvard.edu git_url: https://git.bioconductor.org/packages/hmdbQuery git_branch: devel git_last_commit: b49e9e6 git_last_commit_date: 2025-10-29 10:42:41 -0500 (Wed, 29 Oct 2025)