Package: hierinf Version: 1.29.0 Command: /home/biocbuild/bbs-3.23-bioc/R/bin/R CMD build --keep-empty-dirs --no-resave-data hierinf StartedAt: 2025-11-14 18:05:45 -0500 (Fri, 14 Nov 2025) EndedAt: 2025-11-14 18:07:05 -0500 (Fri, 14 Nov 2025) EllapsedTime: 80.1 seconds RetCode: 0 Status: OK PackageFile: hierinf_1.29.0.tar.gz PackageFileSize: 432.3 KiB