Package: hierinf Version: 1.29.0 Command: /Library/Frameworks/R.framework/Resources/bin/R CMD INSTALL hierinf StartedAt: 2025-11-13 15:03:29 -0500 (Thu, 13 Nov 2025) EndedAt: 2025-11-13 15:03:44 -0500 (Thu, 13 Nov 2025) EllapsedTime: 14.2 seconds RetCode: 0 Status: OK