Package: hierinf Version: 1.29.0 Command: /Library/Frameworks/R.framework/Resources/bin/R CMD build --keep-empty-dirs --no-resave-data hierinf StartedAt: 2025-11-13 16:42:06 -0500 (Thu, 13 Nov 2025) EndedAt: 2025-11-13 16:42:33 -0500 (Thu, 13 Nov 2025) EllapsedTime: 27.3 seconds RetCode: 0 Status: OK PackageFile: hierinf_1.29.0.tar.gz PackageFileSize: 432.3 KiB