Package: hierinf Version: 1.29.0 Command: rm -rf hierinf.buildbin-libdir && mkdir hierinf.buildbin-libdir && /Users/biocbuild/BBS/utils/build-universal.sh hierinf_1.29.0.tar.gz /Library/Frameworks/R.framework/Resources/bin/R hierinf.buildbin-libdir StartedAt: 2025-11-13 23:41:19 -0500 (Thu, 13 Nov 2025) EndedAt: 2025-11-13 23:41:21 -0500 (Thu, 13 Nov 2025) EllapsedTime: 2.1 seconds RetCode: 0 Status: OK PackageFile: hierinf_1.29.0.tgz PackageFileSize: 500.9 KiB