Package: hierinf Version: 1.29.0 Maintainer: Claude Renaux MaintainerEmail: renaux at stat.math.ethz.ch git_url: https://git.bioconductor.org/packages/hierinf git_branch: devel git_last_commit: 6b86f16 git_last_commit_date: 2025-10-29 10:46:45 -0500 (Wed, 29 Oct 2025)