Package: hierGWAS Version: 1.41.0 Command: /home/biocbuild/bbs-3.23-bioc/R/bin/R CMD INSTALL hierGWAS StartedAt: 2025-11-11 15:09:48 -0500 (Tue, 11 Nov 2025) EndedAt: 2025-11-11 15:10:15 -0500 (Tue, 11 Nov 2025) EllapsedTime: 27.5 seconds RetCode: 0 Status: OK