Package: hierGWAS Version: 1.41.0 Command: /Library/Frameworks/R.framework/Resources/bin/R CMD build --keep-empty-dirs --no-resave-data hierGWAS StartedAt: 2025-11-13 16:42:01 -0500 (Thu, 13 Nov 2025) EndedAt: 2025-11-13 16:42:30 -0500 (Thu, 13 Nov 2025) EllapsedTime: 29.3 seconds RetCode: 0 Status: OK PackageFile: hierGWAS_1.41.0.tar.gz PackageFileSize: 567.6 KiB