Package: hierGWAS Version: 1.41.0 Command: rm -rf hierGWAS.buildbin-libdir && mkdir hierGWAS.buildbin-libdir && /Users/biocbuild/BBS/utils/build-universal.sh hierGWAS_1.41.0.tar.gz /Library/Frameworks/R.framework/Resources/bin/R hierGWAS.buildbin-libdir StartedAt: 2025-11-13 23:41:17 -0500 (Thu, 13 Nov 2025) EndedAt: 2025-11-13 23:41:21 -0500 (Thu, 13 Nov 2025) EllapsedTime: 4.1 seconds RetCode: 0 Status: OK PackageFile: hierGWAS_1.41.0.tgz PackageFileSize: 555.3 KiB