Package: hierGWAS Version: 1.41.0 Maintainer: Laura Buzdugan MaintainerEmail: buzdugan at stat.math.ethz.ch git_url: https://git.bioconductor.org/packages/hierGWAS git_branch: devel git_last_commit: 76af363 git_last_commit_date: 2025-10-29 10:26:23 -0500 (Wed, 29 Oct 2025)