Package: hicVennDiagram Version: 1.9.0 Command: /home/biocbuild/bbs-3.23-bioc/R/bin/R CMD INSTALL hicVennDiagram StartedAt: 2025-11-14 15:27:43 -0500 (Fri, 14 Nov 2025) EndedAt: 2025-11-14 15:28:19 -0500 (Fri, 14 Nov 2025) EllapsedTime: 35.7 seconds RetCode: 0 Status: OK