Package: hicVennDiagram Version: 1.9.0 Command: /home/biocbuild/bbs-3.23-bioc/R/bin/R CMD build --keep-empty-dirs --no-resave-data hicVennDiagram StartedAt: 2025-11-14 18:04:49 -0500 (Fri, 14 Nov 2025) EndedAt: 2025-11-14 18:06:52 -0500 (Fri, 14 Nov 2025) EllapsedTime: 123.1 seconds RetCode: 0 Status: OK PackageFile: hicVennDiagram_1.9.0.tar.gz PackageFileSize: 1.125 MiB