Package: hicVennDiagram Version: 1.9.0 Command: /Library/Frameworks/R.framework/Resources/bin/R CMD INSTALL hicVennDiagram StartedAt: 2025-11-13 15:16:25 -0500 (Thu, 13 Nov 2025) EndedAt: 2025-11-13 15:16:39 -0500 (Thu, 13 Nov 2025) EllapsedTime: 14.6 seconds RetCode: 0 Status: OK