Package: hicVennDiagram Version: 1.9.0 Command: /Library/Frameworks/R.framework/Resources/bin/R CMD build --keep-empty-dirs --no-resave-data hicVennDiagram StartedAt: 2025-11-13 16:42:01 -0500 (Thu, 13 Nov 2025) EndedAt: 2025-11-13 16:42:46 -0500 (Thu, 13 Nov 2025) EllapsedTime: 45.5 seconds RetCode: 0 Status: OK PackageFile: hicVennDiagram_1.9.0.tar.gz PackageFileSize: 1.184 MiB