Package: hicVennDiagram Version: 1.9.0 Command: rm -rf hicVennDiagram.buildbin-libdir && mkdir hicVennDiagram.buildbin-libdir && /Users/biocbuild/BBS/utils/build-universal.sh hicVennDiagram_1.9.0.tar.gz /Library/Frameworks/R.framework/Resources/bin/R hicVennDiagram.buildbin-libdir StartedAt: 2025-11-13 23:41:17 -0500 (Thu, 13 Nov 2025) EndedAt: 2025-11-13 23:41:35 -0500 (Thu, 13 Nov 2025) EllapsedTime: 18.5 seconds RetCode: 0 Status: OK PackageFile: hicVennDiagram_1.9.0.tgz PackageFileSize: 1.455 MiB