Package: hiReadsProcessor Version: 1.45.1 Command: /home/biocbuild/bbs-3.23-bioc/R/bin/R CMD check --install=check:hiReadsProcessor.install-out.txt --library=/home/biocbuild/bbs-3.23-bioc/R/site-library --timings hiReadsProcessor_1.45.1.tar.gz StartedAt: 2025-10-23 02:37:06 -0000 (Thu, 23 Oct 2025) EndedAt: 2025-10-23 02:41:42 -0000 (Thu, 23 Oct 2025) EllapsedTime: 275.4 seconds RetCode: 1 Status: ERROR CheckDir: hiReadsProcessor.Rcheck Warnings: NA