Package: hapFabia Version: 1.53.0 Command: /home/biocbuild/bbs-3.23-bioc/R/bin/R CMD INSTALL hapFabia StartedAt: 2025-11-14 15:14:13 -0500 (Fri, 14 Nov 2025) EndedAt: 2025-11-14 15:14:23 -0500 (Fri, 14 Nov 2025) EllapsedTime: 9.8 seconds RetCode: 0 Status: OK