Package: hapFabia Version: 1.53.0 Command: /home/biocbuild/bbs-3.23-bioc/R/bin/R CMD build --keep-empty-dirs --no-resave-data hapFabia StartedAt: 2025-11-14 18:01:00 -0500 (Fri, 14 Nov 2025) EndedAt: 2025-11-14 18:01:22 -0500 (Fri, 14 Nov 2025) EllapsedTime: 22.0 seconds RetCode: 0 Status: OK PackageFile: hapFabia_1.53.0.tar.gz PackageFileSize: 1.623 MiB