Package: hapFabia Version: 1.53.0 Maintainer: Andreas Mitterecker MaintainerEmail: mitterecker at bioinf.jku.at git_url: https://git.bioconductor.org/packages/hapFabia git_branch: devel git_last_commit: 273bb8f git_last_commit_date: 2025-10-29 10:12:02 -0500 (Wed, 29 Oct 2025)