Package: h5vc Version: 2.45.0 Command: /home/biocbuild/bbs-3.23-bioc/R/bin/R CMD INSTALL h5vc StartedAt: 2025-11-11 15:19:58 -0500 (Tue, 11 Nov 2025) EndedAt: 2025-11-11 15:20:17 -0500 (Tue, 11 Nov 2025) EllapsedTime: 19.1 seconds RetCode: 0 Status: OK