Package: h5vc Version: 2.45.0 Command: /Library/Frameworks/R.framework/Resources/bin/R CMD INSTALL h5vc StartedAt: 2025-11-13 15:10:43 -0500 (Thu, 13 Nov 2025) EndedAt: 2025-11-13 15:10:52 -0500 (Thu, 13 Nov 2025) EllapsedTime: 8.8 seconds RetCode: 0 Status: OK