Package: h5vc Version: 2.45.0 Command: /Library/Frameworks/R.framework/Resources/bin/R CMD build --keep-empty-dirs --no-resave-data h5vc StartedAt: 2025-11-13 16:39:22 -0500 (Thu, 13 Nov 2025) EndedAt: 2025-11-13 16:41:21 -0500 (Thu, 13 Nov 2025) EllapsedTime: 119.2 seconds RetCode: 0 Status: OK PackageFile: h5vc_2.45.0.tar.gz PackageFileSize: 1.69 MiB