Package: h5vc Version: 2.45.0 Command: rm -rf h5vc.buildbin-libdir && mkdir h5vc.buildbin-libdir && /Users/biocbuild/BBS/utils/build-universal.sh h5vc_2.45.0.tar.gz /Library/Frameworks/R.framework/Resources/bin/R h5vc.buildbin-libdir StartedAt: 2025-11-13 23:40:50 -0500 (Thu, 13 Nov 2025) EndedAt: 2025-11-13 23:41:01 -0500 (Thu, 13 Nov 2025) EllapsedTime: 11.3 seconds RetCode: 0 Status: OK PackageFile: h5vc_2.45.0.tgz PackageFileSize: 2.137 MiB